Package: GOSemSim Version: 2.34.0 Command: /home/biocbuild/R/R/bin/R CMD INSTALL GOSemSim StartedAt: 2025-10-13 21:02:12 -0000 (Mon, 13 Oct 2025) EndedAt: 2025-10-13 21:02:46 -0000 (Mon, 13 Oct 2025) EllapsedTime: 33.5 seconds RetCode: 0 Status: OK