Package: GOSemSim Version: 2.34.0 Command: /Library/Frameworks/R.framework/Resources/bin/R CMD build --keep-empty-dirs --no-resave-data GOSemSim StartedAt: 2025-10-14 01:32:14 -0400 (Tue, 14 Oct 2025) EndedAt: 2025-10-14 01:32:43 -0400 (Tue, 14 Oct 2025) EllapsedTime: 28.6 seconds RetCode: 0 Status: OK PackageFile: GOSemSim_2.34.0.tar.gz PackageFileSize: 594.7 KiB