Package: GNET2 Version: 1.24.0 Command: /home/biocbuild/R/R/bin/R CMD INSTALL GNET2 StartedAt: 2025-10-13 20:31:16 -0000 (Mon, 13 Oct 2025) EndedAt: 2025-10-13 20:32:07 -0000 (Mon, 13 Oct 2025) EllapsedTime: 50.4 seconds RetCode: 0 Status: OK