Package: GNET2 Version: 1.24.0 Command: /home/biocbuild/R/R/bin/R CMD build --keep-empty-dirs --no-resave-data GNET2 StartedAt: 2025-10-14 01:21:53 -0000 (Tue, 14 Oct 2025) EndedAt: 2025-10-14 01:23:10 -0000 (Tue, 14 Oct 2025) EllapsedTime: 77.0 seconds RetCode: 0 Status: OK PackageFile: GNET2_1.24.0.tar.gz PackageFileSize: 985.9 KiB