Package: GNET2 Version: 1.24.0 Command: /Library/Frameworks/R.framework/Resources/bin/R CMD INSTALL GNET2 StartedAt: 2025-10-13 16:09:38 -0400 (Mon, 13 Oct 2025) EndedAt: 2025-10-13 16:10:16 -0400 (Mon, 13 Oct 2025) EllapsedTime: 37.8 seconds RetCode: 0 Status: OK