Package: GEOsubmission Version: 1.60.0 Command: /home/biocbuild/bbs-3.21-bioc/R/bin/R CMD build --keep-empty-dirs --no-resave-data GEOsubmission StartedAt: 2025-10-15 17:42:33 -0400 (Wed, 15 Oct 2025) EndedAt: 2025-10-15 17:42:40 -0400 (Wed, 15 Oct 2025) EllapsedTime: 7.0 seconds RetCode: 0 Status: OK PackageFile: GEOsubmission_1.60.0.tar.gz PackageFileSize: 192.4 KiB