Package: GEOsubmission Version: 1.60.0 Command: /Library/Frameworks/R.framework/Resources/bin/R CMD INSTALL GEOsubmission StartedAt: 2025-10-13 15:22:56 -0400 (Mon, 13 Oct 2025) EndedAt: 2025-10-13 15:23:05 -0400 (Mon, 13 Oct 2025) EllapsedTime: 9.4 seconds RetCode: 0 Status: OK