Package: GEOsubmission Version: 1.60.0 Command: /home/biocbuild/R/R/bin/R CMD INSTALL GEOsubmission StartedAt: 2025-10-13 20:24:26 -0000 (Mon, 13 Oct 2025) EndedAt: 2025-10-13 20:24:31 -0000 (Mon, 13 Oct 2025) EllapsedTime: 5.4 seconds RetCode: 0 Status: OK