Package: GEOsubmission Version: 1.60.0 Command: /home/biocbuild/R/R/bin/R CMD build --keep-empty-dirs --no-resave-data GEOsubmission StartedAt: 2025-10-14 01:10:49 -0000 (Tue, 14 Oct 2025) EndedAt: 2025-10-14 01:10:57 -0000 (Tue, 14 Oct 2025) EllapsedTime: 8.0 seconds RetCode: 0 Status: OK PackageFile: GEOsubmission_1.60.0.tar.gz PackageFileSize: 186.7 KiB