Package: GEOsubmission Version: 1.60.0 Command: /Library/Frameworks/R.framework/Resources/bin/R CMD build --keep-empty-dirs --no-resave-data GEOsubmission StartedAt: 2025-10-14 01:08:18 -0400 (Tue, 14 Oct 2025) EndedAt: 2025-10-14 01:08:31 -0400 (Tue, 14 Oct 2025) EllapsedTime: 12.5 seconds RetCode: 0 Status: OK PackageFile: GEOsubmission_1.60.0.tar.gz PackageFileSize: 192.5 KiB