Package: GEOquery Version: 2.76.0 Command: /home/biocbuild/R/R/bin/R CMD INSTALL GEOquery StartedAt: 2025-10-13 20:48:08 -0000 (Mon, 13 Oct 2025) EndedAt: 2025-10-13 20:48:44 -0000 (Mon, 13 Oct 2025) EllapsedTime: 36.3 seconds RetCode: 0 Status: OK