Package: GEOquery Version: 2.76.0 Command: /home/biocbuild/R/R/bin/R CMD build --keep-empty-dirs --no-resave-data GEOquery StartedAt: 2025-10-14 01:10:46 -0000 (Tue, 14 Oct 2025) EndedAt: 2025-10-14 01:23:35 -0000 (Tue, 14 Oct 2025) EllapsedTime: 769.2 seconds RetCode: 1 Status: ERROR PackageFile: None PackageFileSize: NA