Package: GEOquery Version: 2.76.0 Command: /Library/Frameworks/R.framework/Resources/bin/R CMD INSTALL GEOquery StartedAt: 2025-10-13 16:57:06 -0400 (Mon, 13 Oct 2025) EndedAt: 2025-10-13 16:57:36 -0400 (Mon, 13 Oct 2025) EllapsedTime: 29.4 seconds RetCode: 0 Status: OK