Package: GEOquery Version: 2.76.0 Command: /Library/Frameworks/R.framework/Resources/bin/R CMD build --keep-empty-dirs --no-resave-data GEOquery StartedAt: 2025-10-14 01:07:30 -0400 (Tue, 14 Oct 2025) EndedAt: 2025-10-14 01:08:42 -0400 (Tue, 14 Oct 2025) EllapsedTime: 71.7 seconds RetCode: 0 Status: OK PackageFile: GEOquery_2.76.0.tar.gz PackageFileSize: 13.07 MiB