Package: GEOmetadb Version: 1.70.0 Command: /home/biocbuild/R/R/bin/R CMD build --keep-empty-dirs --no-resave-data GEOmetadb StartedAt: 2025-10-14 01:09:43 -0000 (Tue, 14 Oct 2025) EndedAt: 2025-10-14 01:14:22 -0000 (Tue, 14 Oct 2025) EllapsedTime: 279.1 seconds RetCode: 1 Status: ERROR PackageFile: None PackageFileSize: NA