Package: GEOfastq Version: 1.16.0 Command: /home/biocbuild/R/R/bin/R CMD INSTALL GEOfastq StartedAt: 2025-10-13 20:17:19 -0000 (Mon, 13 Oct 2025) EndedAt: 2025-10-13 20:18:17 -0000 (Mon, 13 Oct 2025) EllapsedTime: 57.6 seconds RetCode: 0 Status: OK