Package: GEOfastq Version: 1.16.0 Command: /home/biocbuild/R/R/bin/R CMD build --keep-empty-dirs --no-resave-data GEOfastq StartedAt: 2025-10-14 01:09:18 -0000 (Tue, 14 Oct 2025) EndedAt: 2025-10-14 01:09:43 -0000 (Tue, 14 Oct 2025) EllapsedTime: 25.0 seconds RetCode: 0 Status: OK PackageFile: GEOfastq_1.16.0.tar.gz PackageFileSize: 14.03 KiB