Package: GEOfastq Version: 1.16.0 Command: /Library/Frameworks/R.framework/Resources/bin/R CMD INSTALL GEOfastq StartedAt: 2025-10-13 15:18:35 -0400 (Mon, 13 Oct 2025) EndedAt: 2025-10-13 15:19:07 -0400 (Mon, 13 Oct 2025) EllapsedTime: 32.1 seconds RetCode: 0 Status: OK