Package: GDSArray Version: 1.28.0 Command: /Library/Frameworks/R.framework/Resources/bin/R CMD INSTALL GDSArray StartedAt: 2025-10-13 15:44:19 -0400 (Mon, 13 Oct 2025) EndedAt: 2025-10-13 15:44:57 -0400 (Mon, 13 Oct 2025) EllapsedTime: 37.9 seconds RetCode: 0 Status: OK