Package: GDSArray Version: 1.28.0 Command: /home/biocbuild/R/R/bin/R CMD INSTALL GDSArray StartedAt: 2025-10-13 20:37:55 -0000 (Mon, 13 Oct 2025) EndedAt: 2025-10-13 20:38:20 -0000 (Mon, 13 Oct 2025) EllapsedTime: 25.0 seconds RetCode: 0 Status: OK