Package: GA4GHclient Version: 1.32.0 Command: /home/biocbuild/bbs-3.21-bioc/R/bin/R CMD INSTALL GA4GHclient StartedAt: 2025-10-15 15:42:37 -0400 (Wed, 15 Oct 2025) EndedAt: 2025-10-15 15:43:14 -0400 (Wed, 15 Oct 2025) EllapsedTime: 37.0 seconds RetCode: 0 Status: OK