Package: GA4GHclient Version: 1.32.0 Command: /Library/Frameworks/R.framework/Resources/bin/R CMD INSTALL GA4GHclient StartedAt: 2025-10-13 17:29:41 -0400 (Mon, 13 Oct 2025) EndedAt: 2025-10-13 17:30:25 -0400 (Mon, 13 Oct 2025) EllapsedTime: 44.2 seconds RetCode: 0 Status: OK