Package: GA4GHclient Version: 1.32.0 Command: rm -rf GA4GHclient.buildbin-libdir && mkdir GA4GHclient.buildbin-libdir && /Users/biocbuild/BBS/utils/build-universal.sh GA4GHclient_1.32.0.tar.gz /Library/Frameworks/R.framework/Resources/bin/R GA4GHclient.buildbin-libdir StartedAt: 2025-10-15 18:34:04 -0400 (Wed, 15 Oct 2025) EndedAt: 2025-10-15 18:34:53 -0400 (Wed, 15 Oct 2025) EllapsedTime: 48.5 seconds RetCode: 0 Status: OK PackageFile: GA4GHclient_1.32.0.tgz PackageFileSize: 758.6 KiB