Package: G4SNVHunter Version: 1.0.0 Command: /home/biocbuild/bbs-3.21-bioc/R/bin/R CMD INSTALL G4SNVHunter StartedAt: 2025-10-15 15:14:58 -0400 (Wed, 15 Oct 2025) EndedAt: 2025-10-15 15:15:17 -0400 (Wed, 15 Oct 2025) EllapsedTime: 18.6 seconds RetCode: 0 Status: OK