Package: G4SNVHunter Version: 1.0.0 Command: /home/biocbuild/R/R/bin/R CMD build --keep-empty-dirs --no-resave-data G4SNVHunter StartedAt: 2025-10-14 00:58:38 -0000 (Tue, 14 Oct 2025) EndedAt: 2025-10-14 01:01:39 -0000 (Tue, 14 Oct 2025) EllapsedTime: 181.1 seconds RetCode: 0 Status: OK PackageFile: G4SNVHunter_1.0.0.tar.gz PackageFileSize: 1.546 MiB