Package: FuseSOM Version: 1.10.0 Command: /home/biocbuild/R/R/bin/R CMD build --keep-empty-dirs --no-resave-data FuseSOM StartedAt: 2025-10-14 00:58:27 -0000 (Tue, 14 Oct 2025) EndedAt: 2025-10-14 01:00:05 -0000 (Tue, 14 Oct 2025) EllapsedTime: 98.0 seconds RetCode: 0 Status: OK PackageFile: FuseSOM_1.10.0.tar.gz PackageFileSize: 2.551 MiB