Package: FuseSOM Version: 1.10.0 Command: /Library/Frameworks/R.framework/Resources/bin/R CMD INSTALL FuseSOM StartedAt: 2025-10-13 16:06:14 -0400 (Mon, 13 Oct 2025) EndedAt: 2025-10-13 16:06:46 -0400 (Mon, 13 Oct 2025) EllapsedTime: 32.5 seconds RetCode: 0 Status: OK