Package: FuseSOM Version: 1.10.0 Command: rm -rf FuseSOM.buildbin-libdir && mkdir FuseSOM.buildbin-libdir && /Users/biocbuild/BBS/utils/build-universal.sh FuseSOM_1.10.0.tar.gz /Library/Frameworks/R.framework/Resources/bin/R FuseSOM.buildbin-libdir StartedAt: 2025-10-15 18:33:37 -0400 (Wed, 15 Oct 2025) EndedAt: 2025-10-15 18:34:12 -0400 (Wed, 15 Oct 2025) EllapsedTime: 35.5 seconds RetCode: 0 Status: OK PackageFile: FuseSOM_1.10.0.tgz PackageFileSize: 2.716 MiB