Package: FlowSOM Version: 2.16.0 Command: rm -rf FlowSOM.buildbin-libdir && mkdir FlowSOM.buildbin-libdir && /Users/biocbuild/BBS/utils/build-universal.sh FlowSOM_2.16.0.tar.gz /Library/Frameworks/R.framework/Resources/bin/R FlowSOM.buildbin-libdir StartedAt: 2025-10-14 13:28:30 -0400 (Tue, 14 Oct 2025) EndedAt: 2025-10-14 13:29:26 -0400 (Tue, 14 Oct 2025) EllapsedTime: 56.0 seconds RetCode: 0 Status: OK PackageFile: FlowSOM_2.16.0.tgz PackageFileSize: 5.23 MiB