Package: FlowSOM Version: 2.16.0 Command: rm -rf FlowSOM.buildbin-libdir && mkdir FlowSOM.buildbin-libdir && /Users/biocbuild/BBS/utils/build-universal.sh FlowSOM_2.16.0.tar.gz /Library/Frameworks/R.framework/Resources/bin/R FlowSOM.buildbin-libdir StartedAt: 2025-10-15 18:32:15 -0400 (Wed, 15 Oct 2025) EndedAt: 2025-10-15 18:32:34 -0400 (Wed, 15 Oct 2025) EllapsedTime: 19.2 seconds RetCode: 0 Status: OK PackageFile: FlowSOM_2.16.0.tgz PackageFileSize: 5.215 MiB