Package: FitHiC Version: 1.34.0 Command: /home/biocbuild/bbs-3.21-bioc/R/bin/R CMD build --keep-empty-dirs --no-resave-data FitHiC StartedAt: 2025-10-15 17:31:21 -0400 (Wed, 15 Oct 2025) EndedAt: 2025-10-15 17:33:17 -0400 (Wed, 15 Oct 2025) EllapsedTime: 116.1 seconds RetCode: 0 Status: OK PackageFile: FitHiC_1.34.0.tar.gz PackageFileSize: 27.66 MiB