Package: FitHiC Version: 1.34.0 Command: rm -rf FitHiC.buildbin-libdir && mkdir FitHiC.buildbin-libdir && /Users/biocbuild/BBS/utils/build-universal.sh FitHiC_1.34.0.tar.gz /Library/Frameworks/R.framework/Resources/bin/R FitHiC.buildbin-libdir StartedAt: 2025-10-14 13:27:11 -0400 (Tue, 14 Oct 2025) EndedAt: 2025-10-14 13:27:57 -0400 (Tue, 14 Oct 2025) EllapsedTime: 45.9 seconds RetCode: 0 Status: OK PackageFile: FitHiC_1.34.0.tgz PackageFileSize: 27.95 MiB