Package: FitHiC Version: 1.34.0 Command: /home/biocbuild/R/R/bin/R CMD build --keep-empty-dirs --no-resave-data FitHiC StartedAt: 2025-10-14 00:52:22 -0000 (Tue, 14 Oct 2025) EndedAt: 2025-10-14 00:55:13 -0000 (Tue, 14 Oct 2025) EllapsedTime: 171.1 seconds RetCode: 0 Status: OK PackageFile: FitHiC_1.34.0.tar.gz PackageFileSize: 27.66 MiB