Package: FitHiC Version: 1.34.0 Command: /Library/Frameworks/R.framework/Resources/bin/R CMD INSTALL FitHiC StartedAt: 2025-10-13 15:07:52 -0400 (Mon, 13 Oct 2025) EndedAt: 2025-10-13 15:08:01 -0400 (Mon, 13 Oct 2025) EllapsedTime: 9.3 seconds RetCode: 0 Status: OK