Package: FindIT2 Version: 1.14.0 Command: /home/biocbuild/R/R/bin/R CMD INSTALL FindIT2 StartedAt: 2025-10-13 20:54:30 -0000 (Mon, 13 Oct 2025) EndedAt: 2025-10-13 20:55:23 -0000 (Mon, 13 Oct 2025) EllapsedTime: 53.1 seconds RetCode: 0 Status: OK