Package: FindIT2 Version: 1.14.0 Command: /home/biocbuild/R/R/bin/R CMD build --keep-empty-dirs --no-resave-data FindIT2 StartedAt: 2025-10-14 00:51:57 -0000 (Tue, 14 Oct 2025) EndedAt: 2025-10-14 00:54:18 -0000 (Tue, 14 Oct 2025) EllapsedTime: 141.0 seconds RetCode: 0 Status: OK PackageFile: FindIT2_1.14.0.tar.gz PackageFileSize: 1.958 MiB