Package: FastqCleaner Version: 1.26.0 Command: /home/biocbuild/bbs-3.21-bioc/R/bin/R CMD build --keep-empty-dirs --no-resave-data FastqCleaner StartedAt: 2025-10-15 17:29:07 -0400 (Wed, 15 Oct 2025) EndedAt: 2025-10-15 17:30:31 -0400 (Wed, 15 Oct 2025) EllapsedTime: 84.1 seconds RetCode: 0 Status: OK PackageFile: FastqCleaner_1.26.0.tar.gz PackageFileSize: 4.318 MiB