Package: FastqCleaner Version: 1.26.0 Command: /home/biocbuild/R/R/bin/R CMD INSTALL FastqCleaner StartedAt: 2025-10-13 21:08:24 -0000 (Mon, 13 Oct 2025) EndedAt: 2025-10-13 21:09:28 -0000 (Mon, 13 Oct 2025) EllapsedTime: 64.1 seconds RetCode: 0 Status: OK