Package: FastqCleaner Version: 1.26.0 Command: /home/biocbuild/R/R/bin/R CMD build --keep-empty-dirs --no-resave-data FastqCleaner StartedAt: 2025-10-14 00:49:48 -0000 (Tue, 14 Oct 2025) EndedAt: 2025-10-14 00:51:21 -0000 (Tue, 14 Oct 2025) EllapsedTime: 93.1 seconds RetCode: 0 Status: OK PackageFile: FastqCleaner_1.26.0.tar.gz PackageFileSize: 4.36 MiB