Package: FastqCleaner Version: 1.26.0 Command: /Library/Frameworks/R.framework/Resources/bin/R CMD INSTALL FastqCleaner StartedAt: 2025-04-21 15:26:01 -0400 (Mon, 21 Apr 2025) EndedAt: 2025-04-21 15:26:18 -0400 (Mon, 21 Apr 2025) EllapsedTime: 17.6 seconds RetCode: 0 Status: OK