Package: FastqCleaner Version: 1.26.0 Command: rm -rf FastqCleaner.buildbin-libdir && mkdir FastqCleaner.buildbin-libdir && /Users/biocbuild/BBS/utils/build-universal.sh FastqCleaner_1.26.0.tar.gz /Library/Frameworks/R.framework/Resources/bin/R FastqCleaner.buildbin-libdir StartedAt: 2025-04-21 22:35:03 -0400 (Mon, 21 Apr 2025) EndedAt: 2025-04-21 22:35:23 -0400 (Mon, 21 Apr 2025) EllapsedTime: 19.5 seconds RetCode: 0 Status: OK PackageFile: FastqCleaner_1.26.0.tgz PackageFileSize: 3.772 MiB