Package: FGNet Version: 3.42.0 Command: /home/biocbuild/bbs-3.21-bioc/R/bin/R CMD INSTALL FGNet StartedAt: 2025-10-15 15:10:22 -0400 (Wed, 15 Oct 2025) EndedAt: 2025-10-15 15:10:31 -0400 (Wed, 15 Oct 2025) EllapsedTime: 9.1 seconds RetCode: 0 Status: OK