Package: FGNet Version: 3.42.0 Command: /home/biocbuild/R/R/bin/R CMD INSTALL FGNet StartedAt: 2025-10-13 20:22:19 -0000 (Mon, 13 Oct 2025) EndedAt: 2025-10-13 20:22:33 -0000 (Mon, 13 Oct 2025) EllapsedTime: 14.6 seconds RetCode: 0 Status: OK