Package: FGNet Version: 3.42.0 Command: /home/biocbuild/R/R/bin/R CMD build --keep-empty-dirs --no-resave-data FGNet StartedAt: 2025-10-14 00:51:33 -0000 (Tue, 14 Oct 2025) EndedAt: 2025-10-14 00:51:56 -0000 (Tue, 14 Oct 2025) EllapsedTime: 23.0 seconds RetCode: 0 Status: OK PackageFile: FGNet_3.42.0.tar.gz PackageFileSize: 2.744 MiB