Package: ExpressionAtlas Version: 2.0.0 Command: /Library/Frameworks/R.framework/Resources/bin/R CMD INSTALL ExpressionAtlas StartedAt: 2025-10-13 16:29:23 -0400 (Mon, 13 Oct 2025) EndedAt: 2025-10-13 16:30:13 -0400 (Mon, 13 Oct 2025) EllapsedTime: 50.1 seconds RetCode: 0 Status: OK