Package: ExpressionAtlas Version: 2.0.0 Command: /Library/Frameworks/R.framework/Resources/bin/R CMD build --keep-empty-dirs --no-resave-data ExpressionAtlas StartedAt: 2025-10-13 19:00:47 -0400 (Mon, 13 Oct 2025) EndedAt: 2025-10-13 19:01:56 -0400 (Mon, 13 Oct 2025) EllapsedTime: 69.5 seconds RetCode: 0 Status: OK PackageFile: ExpressionAtlas_2.0.0.tar.gz PackageFileSize: 319 KiB