Package: ExpressionAtlas Version: 2.0.0 Command: /home/biocbuild/R/R/bin/R CMD INSTALL ExpressionAtlas StartedAt: 2025-10-13 21:06:45 -0000 (Mon, 13 Oct 2025) EndedAt: 2025-10-13 21:07:18 -0000 (Mon, 13 Oct 2025) EllapsedTime: 32.4 seconds RetCode: 0 Status: OK