Package: ExpressionAtlas Version: 2.0.0 Command: /Library/Frameworks/R.framework/Resources/bin/R CMD INSTALL ExpressionAtlas StartedAt: 2025-10-13 18:07:50 -0400 (Mon, 13 Oct 2025) EndedAt: 2025-10-13 18:08:17 -0400 (Mon, 13 Oct 2025) EllapsedTime: 27.9 seconds RetCode: 0 Status: OK