Package: ExpressionAtlas Version: 2.0.0 Command: /Library/Frameworks/R.framework/Resources/bin/R CMD build --keep-empty-dirs --no-resave-data ExpressionAtlas StartedAt: 2025-10-14 00:14:08 -0400 (Tue, 14 Oct 2025) EndedAt: 2025-10-14 00:14:49 -0400 (Tue, 14 Oct 2025) EllapsedTime: 40.7 seconds RetCode: 0 Status: OK PackageFile: ExpressionAtlas_2.0.0.tar.gz PackageFileSize: 319.2 KiB