Package: ExperimentSubset Version: 1.18.1 Command: /home/biocbuild/bbs-3.21-bioc/R/bin/R CMD INSTALL ExperimentSubset StartedAt: 2025-10-15 15:23:43 -0400 (Wed, 15 Oct 2025) EndedAt: 2025-10-15 15:24:17 -0400 (Wed, 15 Oct 2025) EllapsedTime: 33.4 seconds RetCode: 0 Status: OK